BEGIN:VCALENDAR
VERSION:2.0
PRODID:-//Westfälische Kaufmannsgilde e. V. - ECPv6.15.20//NONSGML v1.0//EN
CALSCALE:GREGORIAN
METHOD:PUBLISH
X-WR-CALNAME:Westfälische Kaufmannsgilde e. V.
X-ORIGINAL-URL:https://wkg-dortmund.de
X-WR-CALDESC:Veranstaltungen für Westfälische Kaufmannsgilde e. V.
REFRESH-INTERVAL;VALUE=DURATION:PT1H
X-Robots-Tag:noindex
X-PUBLISHED-TTL:PT1H
BEGIN:VTIMEZONE
TZID:UTC
BEGIN:STANDARD
TZOFFSETFROM:+0000
TZOFFSETTO:+0000
TZNAME:UTC
DTSTART:20250101T000000
END:STANDARD
END:VTIMEZONE
BEGIN:VEVENT
DTSTART;TZID=UTC:20260126T173000
DTEND;TZID=UTC:20260126T210000
DTSTAMP:20260423T144201
CREATED:20251211T123709Z
LAST-MODIFIED:20251211T123709Z
UID:9996-1769448600-1769461200@wkg-dortmund.de
SUMMARY:Mitgliederversammlung
DESCRIPTION:
URL:https://wkg-dortmund.de/event/mitgliederversammlung/
LOCATION:Westfälischer Industrieklub Dortmund e. V.\, Markt 6\, 44137 Dortmund
END:VEVENT
END:VCALENDAR